1.0000000000
0.0000000000
0.0000000000
-1.0000000000
565228.5000000000
4234165.5000000000
