1.0000000000
0.0000000000
0.0000000000
-1.0000000000
570758.5000000000
4227280.5000000000
