1.0000000000
0.0000000000
0.0000000000
-1.0000000000
559759.5000000000
4234119.5000000000
