1.0000000000
0.0000000000
0.0000000000
-1.0000000000
554330.5000000000
4227149.5000000000
