BEGIN_USGS_DOQ_HEADER *
QUADRANGLE_NAME "CUTTINGS WHARF" *
QUADRANT SW *
WEST_LONGITUDE -122 22 30.0 *
EAST_LONGITUDE -122 18 45.0 *
NORTH_LATITUDE 38 11 15.0 *
SOUTH_LATITUDE 38 7 30.0 *
PRODUCTION_DATE 1997 9 15 *
RASTER_ORDER LEFT_RIGHT/TOP_BOTTOM *
BAND_ORGANIZATION "SINGLE FILE" *
BAND_CONTENT BLACK&WHITE *
BITS_PER_PIXEL 8 *
SAMPLES_AND_LINES 6231 7601 *
HORIZONTAL_DATUM NAD83 *
HORIZONTAL_COORDINATE_SYSTEM UTM *
COORDINATE_ZONE 10 *
HORIZONTAL_UNITS METERS *
HORIZONTAL_RESOLUTION 1.0 *
SECONDARY_HORIZONTAL_DATUM NAD27 *
XY_ORIGIN 554330.000 4227150.000 *
SECONDARY_XY_ORIGIN 554426.483 4226953.681 *
NATION US *
STATE CA *
NW_QUAD_CORNER_XY 554733.581 4226803.431 *
NE_QUAD_CORNER_XY 560206.999 4226842.190 *
SE_QUAD_CORNER_XY 560258.410 4219907.381 *
SW_QUAD_CORNER_XY 554780.318 4219868.642 *
SECONDARY_NW_QUAD_XY 554734.956 4226597.314 *
SECONDARY_NE_QUAD_XY 560208.511 4226636.075 *
SECONDARY_SE_QUAD_XY 560259.921 4219701.413 *
SECONDARY_SW_QUAD_XY 554781.692 4219662.673 *
RMSE_XY 0.823 *
IMAGE_SOURCE "Black and White film" *
SOURCE_IMAGE_ID "NAPP 6359-207" *
SOURCE_IMAGE_DATE 1993 7 6 *
SOURCE_DEM_DATE 1983 7 3 *
AGENCY "WESTERN MAPPING CENTER (WMC)" *
PRODUCER "Hammon, Jensen, Wallen & Associates" *
PRODUCTION_SYSTEM "ORTHOVIEW" *
STANDARD_VERSION 1996 12 *
METADATA_DATE 1997 9 15 *
DATA_FILE_SIZE 47368062 *
BYTE_COUNT 6231 * * * * * * * * * * * * * * * * * * * * * * * * * * * * * * * * * * *
END_USGS_HEADER *
