1.0000000000
0.0000000000
0.0000000000
-1.0000000000
537880.5000000000
4233979.5000000000
