1.0000000000
0.0000000000
0.0000000000
-1.0000000000
537910.5000000000
4227039.5000000000
