1.0000000000
0.0000000000
0.0000000000
-1.0000000000
526940.5000000000
4233929.5000000000
