1.0000000000
0.0000000000
0.0000000000
-1.0000000000
521470.5000000000
4233899.5000000000
