1.0000000000
0.0000000000
0.0000000000
-1.0000000000
526970.5000000000
4226989.5000000000
