BEGIN_USGS_DOQ_HEADER *
QUADRANGLE_NAME "PETALUMA" *
QUADRANT SE *
WEST_LONGITUDE -122 41 15.0 *
EAST_LONGITUDE -122 37 30.0 *
NORTH_LATITUDE 38 11 15.0 *
SOUTH_LATITUDE 38 7 30.0 *
PRODUCTION_DATE 1997 9 15 *
RASTER_ORDER LEFT_RIGHT/TOP_BOTTOM *
BAND_ORGANIZATION "SINGLE FILE" *
BAND_CONTENT BLACK&WHITE *
BITS_PER_PIXEL 8 *
SAMPLES_AND_LINES 6201 7571 *
HORIZONTAL_DATUM NAD83 *
HORIZONTAL_COORDINATE_SYSTEM UTM *
COORDINATE_ZONE 10 *
HORIZONTAL_UNITS METERS *
HORIZONTAL_RESOLUTION 1.0 *
SECONDARY_HORIZONTAL_DATUM NAD27 *
XY_ORIGIN 526970.000 4226990.000 *
SECONDARY_XY_ORIGIN 527066.823 4226793.244 *
NATION US *
STATE CA *
NW_QUAD_CORNER_XY 527366.694 4226665.007 *
NE_QUAD_CORNER_XY 532840.049 4226685.309 *
SE_QUAD_CORNER_XY 532868.091 4219750.584 *
SW_QUAD_CORNER_XY 527390.061 4219730.293 *
SECONDARY_NW_QUAD_XY 527367.381 4226458.887 *
SECONDARY_NE_QUAD_XY 532840.874 4226479.190 *
SECONDARY_SE_QUAD_XY 532868.915 4219544.612 *
SECONDARY_SW_QUAD_XY 527390.748 4219524.320 *
RMSE_XY 3.133 *
IMAGE_SOURCE "Black and White film" *
SOURCE_IMAGE_ID "NAPP 6361-23" *
SOURCE_IMAGE_DATE 1993 7 10 *
SOURCE_DEM_DATE 1952 1 1 *
AGENCY "WESTERN MAPPING CENTER (WMC)" *
PRODUCER "Hammon, Jensen, Wallen & Associates" *
PRODUCTION_SYSTEM "ORTHOVIEW" *
STANDARD_VERSION 1996 12 *
METADATA_DATE 1997 9 15 *
DATA_FILE_SIZE 46953972 *
BYTE_COUNT 6201 * * * * * * * * * * * * * * * * * * * * * * * * * * * * * * * * * * *
END_USGS_HEADER *
