1.0000000000
0.0000000000
0.0000000000
-1.0000000000
521490.5000000000
4226969.5000000000
