1.0000000000
0.0000000000
0.0000000000
-1.0000000000
576035.5000000000
4248139.5000000000
