1.0000000000
0.0000000000
0.0000000000
-1.0000000000
581565.5000000000
4241261.5000000000
