BEGIN_USGS_DOQ_HEADER *
QUADRANGLE_NAME "FAIRFIELD NORTH" 3.45 or 7.5-min. name*
QUADRANT SW quadrant indicator if cell size = 3.75-minutes*
WEST_LONGITUDE -122 7 30.000 signed deg min sec SDDD MM SS.SSS*
EAST_LONGITUDE -122 3 45.000 signed deg min sec SDDD MM SS.SSS*
NORTH_LATITUDE 38 18 45.000 signed deg min sec SDDD MM SS.SSS*
SOUTH_LATITUDE 38 15 0.000 signed deg min sec SDDD MM SS.SSS*
PRODUCTION_DATE 1998 8 6 yyyy mm dd*
RASTER_ORDER LEFT_RIGHT/TOP_BOTTOM video display order*
BAND_ORGANIZATION "SINGLE FILE" single file or BSQ, or BIL or BIP*
BAND_CONTENT BLACK&WHITE black&white or red green blue*
BITS_PER_PIXEL 8 radiometric resolution*
SAMPLES_AND_LINES 6232 7602 number of columns and rows*
HORIZONTAL_DATUM NAD83 primary horizontal datum*
HORIZONTAL_COORDINATE_SYSTEM UTM *
COORDINATE_ZONE 10 coordinate system zone number*
HORIZONTAL_UNITS METERS coordinate system units*
HORIZONTAL_RESOLUTION 1.00 pixel horiz. ground sample distance*
SECONDARY_HORIZONTAL_DATUM NAD27 secondary horizontal datum*
XY_ORIGIN 576100.000 4241205.000 coord. of upper left pixel pri. datum*
SECONDARY_XY_ORIGIN 576196.312 4241009.150 coord upper left pixel sec datum*
NATION US nation code*
STATE CA state fip code*
NW_QUAD_CORNER_XY 576496.216 4240850.604 XY coords. of pri. NW quad corner*
NE_QUAD_CORNER_XY 581960.342 4240904.189 XY coords. of pri. NE quad corner*
SE_QUAD_CORNER_XY 582030.648 4233969.133 XY coords. of pri. SE quad corner*
SW_QUAD_CORNER_XY 576561.834 4233915.576 XY coords. of pri. SW quad corner*
SECONDARY_NW_QUAD_XY 576498.143 4240644.200 XY coords. - sec. NW quad cor.*
SECONDARY_NE_QUAD_XY 581962.406 4240697.786 XY coords. - sec. NE quad cor.*
SECONDARY_SE_QUAD_XY 582032.711 4233762.876 XY coords. - sec. SE quad cor.*
SECONDARY_SW_QUAD_XY 576563.760 4233709.318 XY coords. - sec. SW quad cor.*
RMSE_XY 1.00 doq horiz. accuracy*
IMAGE_SOURCE "BLACK AND WHITE FILM" b&w, cir, natural color, other*
SOURCE_IMAGE_ID "NAPP 6358 110" source image id*
SOURCE_IMAGE_DATE 1993 06 16 source image date as yyyy mm dd*
IMAGE_SOURCE "BLACK AND WHITE FILM" b&w, cir, natural color, other*
SOURCE_IMAGE_ID "NAPP 6358 169" source image id*
SOURCE_IMAGE_DATE 1993 06 16 source image date as yyyy mm dd*
SOURCE_DEM_DATE 1980 00 00 source dem date yyyy mm dd*
AGENCY "WESTERN MAPPING CENTER (WMC)" oversight agency*
PRODUCER "SCIENCE APPLICATIONS INTERNATIONAL" producer/contractor*
PRODUCTION_SYSTEM "GIS/MAGIC" production system*
STANDARD_VERSION 1996 12 version of DOQ standard*
METADATA_DATE 1998 08 21 date created or changed, yyyy mm dd*
DATA_FILE_SIZE 47381896 data set size in bytes*
BYTE_COUNT 6232 header byte count* * * * * * * * * * * * * * * * * * * * * * * * * * * * * * * *
END_USGS_HEADER *
