1.0000000000
0.0000000000
0.0000000000
-1.0000000000
570575.5000000000
4248085.5000000000
