1.0000000000
0.0000000000
0.0000000000
-1.0000000000
565116.5000000000
4248035.5000000000
