1.0000000000
0.0000000000
0.0000000000
-1.0000000000
570636.5000000000
4241150.5000000000
