1.0000000000
0.0000000000
0.0000000000
-1.0000000000
548730.5000000000
4247909.5000000000
