BEGIN_USGS_DOQ_HEADER *
QUADRANGLE_NAME "SONOMA" *
QUADRANT SE *
WEST_LONGITUDE -122 26 15.0 *
EAST_LONGITUDE -122 22 30.0 *
NORTH_LATITUDE 38 18 45.0 *
SOUTH_LATITUDE 38 15 0.0 *
PRODUCTION_DATE 1997 9 15 *
RASTER_ORDER LEFT_RIGHT/TOP_BOTTOM *
BAND_ORGANIZATION "SINGLE FILE" *
BAND_CONTENT BLACK&WHITE *
BITS_PER_PIXEL 8 *
SAMPLES_AND_LINES 6211 7591 *
HORIZONTAL_DATUM NAD83 *
HORIZONTAL_COORDINATE_SYSTEM UTM *
COORDINATE_ZONE 10 *
HORIZONTAL_UNITS METERS *
HORIZONTAL_RESOLUTION 1.0 *
SECONDARY_HORIZONTAL_DATUM NAD27 *
XY_ORIGIN 548780.000 4240980.000 *
SECONDARY_XY_ORIGIN 548876.515 4240783.710 *
NATION US *
STATE CA *
NW_QUAD_CORNER_XY 549175.877 4240638.122 *
NE_QUAD_CORNER_XY 554639.911 4240673.227 *
SE_QUAD_CORNER_XY 554686.779 4233738.292 *
SW_QUAD_CORNER_XY 549218.057 4233703.206 *
SECONDARY_NW_QUAD_XY 549177.115 4240431.712 *
SECONDARY_NE_QUAD_XY 554641.288 4240466.818 *
SECONDARY_SE_QUAD_XY 554688.154 4233532.029 *
SECONDARY_SW_QUAD_XY 549219.295 4233496.942 *
RMSE_XY 1.327 *
IMAGE_SOURCE "Black and White film" *
SOURCE_IMAGE_ID "NAPP 6360-213" *
SOURCE_IMAGE_DATE 1993 7 10 *
SOURCE_DEM_DATE 1980 1 1 *
AGENCY "WESTERN MAPPING CENTER (WMC)" *
PRODUCER "Hammon, Jensen, Wallen & Associates" *
PRODUCTION_SYSTEM "ORTHOVIEW" *
STANDARD_VERSION 1996 12 *
METADATA_DATE 1997 9 15 *
DATA_FILE_SIZE 47153912 *
BYTE_COUNT 6211 * * * * * * * * * * * * * * * * * * * * * * * * * * * * * * * * * * *
END_USGS_HEADER *
