1.0000000000
0.0000000000
0.0000000000
-1.0000000000
543310.5000000000
4240939.5000000000
