BEGIN_USGS_DOQ_HEADER *
QUADRANGLE_NAME "SONOMA" *
QUADRANT SW *
WEST_LONGITUDE -122 30 0.0 *
EAST_LONGITUDE -122 26 15.0 *
NORTH_LATITUDE 38 18 45.0 *
SOUTH_LATITUDE 38 15 0.0 *
PRODUCTION_DATE 1997 9 15 *
RASTER_ORDER LEFT_RIGHT/TOP_BOTTOM *
BAND_ORGANIZATION "SINGLE FILE" *
BAND_CONTENT BLACK&WHITE *
BITS_PER_PIXEL 8 *
SAMPLES_AND_LINES 6211 7581 *
HORIZONTAL_DATUM NAD83 *
HORIZONTAL_COORDINATE_SYSTEM UTM *
COORDINATE_ZONE 10 *
HORIZONTAL_UNITS METERS *
HORIZONTAL_RESOLUTION 1.0 *
SECONDARY_HORIZONTAL_DATUM NAD27 *
XY_ORIGIN 543310.000 4240940.000 *
SECONDARY_XY_ORIGIN 543406.575 4240743.644 *
NATION US *
STATE CA *
NW_QUAD_CORNER_XY 543711.856 4240606.713 *
NE_QUAD_CORNER_XY 549175.877 4240638.122 *
SE_QUAD_CORNER_XY 549218.057 4233703.206 *
SW_QUAD_CORNER_XY 543749.349 4233671.813 *
SECONDARY_NW_QUAD_XY 543712.957 4240400.302 *
SECONDARY_NE_QUAD_XY 549177.115 4240431.712 *
SECONDARY_SE_QUAD_XY 549219.295 4233496.942 *
SECONDARY_SW_QUAD_XY 543750.450 4233465.548 *
RMSE_XY 1.009 *
IMAGE_SOURCE "Black and White film" *
SOURCE_IMAGE_ID "NAPP 6361-8" *
SOURCE_IMAGE_DATE 1993 7 10 *
SOURCE_DEM_DATE 1980 1 1 *
AGENCY "WESTERN MAPPING CENTER (WMC)" *
PRODUCER "Hammon, Jensen, Wallen & Associates" *
PRODUCTION_SYSTEM "ORTHOVIEW" *
STANDARD_VERSION 1996 12 *
METADATA_DATE 1997 9 15 *
DATA_FILE_SIZE 47091802 *
BYTE_COUNT 6211 * * * * * * * * * * * * * * * * * * * * * * * * * * * * * * * * * * *
END_USGS_HEADER *
