1.0000000000
0.0000000000
0.0000000000
-1.0000000000
537810.5000000000
4247849.5000000000
