1.0000000000
0.0000000000
0.0000000000
-1.0000000000
537850.5000000000
4240909.5000000000
