BEGIN_USGS_DOQ_HEADER *
QUADRANGLE_NAME "GLEN ELLEN" *
QUADRANT SW *
WEST_LONGITUDE -122 37 30.0 *
EAST_LONGITUDE -122 33 45.0 *
NORTH_LATITUDE 38 18 45.0 *
SOUTH_LATITUDE 38 15 0.0 *
PRODUCTION_DATE 1997 9 15 *
RASTER_ORDER LEFT_RIGHT/TOP_BOTTOM *
BAND_ORGANIZATION "SINGLE FILE" *
BAND_CONTENT BLACK&WHITE *
BITS_PER_PIXEL 8 *
SAMPLES_AND_LINES 6211 7571 *
HORIZONTAL_DATUM NAD83 *
HORIZONTAL_COORDINATE_SYSTEM UTM *
COORDINATE_ZONE 10 *
HORIZONTAL_UNITS METERS *
HORIZONTAL_RESOLUTION 1.0 *
SECONDARY_HORIZONTAL_DATUM NAD27 *
XY_ORIGIN 532380.000 4240880.000 *
SECONDARY_XY_ORIGIN 532476.634 4240683.428 *
NATION US *
STATE CA *
NW_QUAD_CORNER_XY 532783.849 4240554.981 *
NE_QUAD_CORNER_XY 538247.847 4240578.999 *
SE_QUAD_CORNER_XY 538280.654 4233644.114 *
SW_QUAD_CORNER_XY 532811.969 4233620.108 *
SECONDARY_NW_QUAD_XY 532784.675 4240348.569 *
SECONDARY_NE_QUAD_XY 538248.811 4240372.588 *
SECONDARY_SE_QUAD_XY 538281.617 4233437.848 *
SECONDARY_SW_QUAD_XY 532812.794 4233413.842 *
RMSE_XY 1.965 *
IMAGE_SOURCE "Black and White film" *
SOURCE_IMAGE_ID "NAPP 6361-101" *
SOURCE_IMAGE_DATE 1993 7 10 *
SOURCE_DEM_DATE 1952 0 1 *
AGENCY "WESTERN MAPPING CENTER (WMC)" *
PRODUCER "Hammon, Jensen, Wallen & Associates" *
PRODUCTION_SYSTEM "ORTHOVIEW" *
STANDARD_VERSION 1996 12 *
METADATA_DATE 1997 9 15 *
DATA_FILE_SIZE 47029692 *
BYTE_COUNT 6211 * * * * * * * * * * * * * * * * * * * * * * * * * * * * * * * * * * *
END_USGS_HEADER *
