BEGIN_USGS_DOQ_HEADER *
QUADRANGLE_NAME "COTATI" *
QUADRANT NE *
WEST_LONGITUDE -122 41 15.0 *
EAST_LONGITUDE -122 37 30.0 *
NORTH_LATITUDE 38 22 30.0 *
SOUTH_LATITUDE 38 18 45.0 *
PRODUCTION_DATE 1997 9 15 *
RASTER_ORDER LEFT_RIGHT/TOP_BOTTOM *
BAND_ORGANIZATION "SINGLE FILE" *
BAND_CONTENT BLACK&WHITE *
BITS_PER_PIXEL 8 *
SAMPLES_AND_LINES 6191 7571 *
HORIZONTAL_DATUM NAD83 *
HORIZONTAL_COORDINATE_SYSTEM UTM *
COORDINATE_ZONE 10 *
HORIZONTAL_UNITS METERS *
HORIZONTAL_RESOLUTION 1.0 *
SECONDARY_HORIZONTAL_DATUM NAD27 *
XY_ORIGIN 526900.000 4247790.000 *
SECONDARY_XY_ORIGIN 526996.546 4247593.362 *
NATION US *
STATE CA *
NW_QUAD_CORNER_XY 527296.395 4247469.593 *
NE_QUAD_CORNER_XY 532755.690 4247489.927 *
SE_QUAD_CORNER_XY 532783.849 4240554.981 *
SW_QUAD_CORNER_XY 527319.860 4240534.657 *
SECONDARY_NW_QUAD_XY 527297.084 4247263.036 *
SECONDARY_NE_QUAD_XY 532756.517 4247283.370 *
SECONDARY_SE_QUAD_XY 532784.675 4240348.569 *
SECONDARY_SW_QUAD_XY 527320.549 4240328.245 *
RMSE_XY 2.221 *
IMAGE_SOURCE "Black and White film" *
SOURCE_IMAGE_ID "NAPP 6361-29" *
SOURCE_IMAGE_DATE 1993 7 10 *
SOURCE_DEM_DATE 1970 4 19 *
AGENCY "WESTERN MAPPING CENTER (WMC)" *
PRODUCER "Hammon, Jensen, Wallen & Associates" *
PRODUCTION_SYSTEM "ORTHOVIEW" *
STANDARD_VERSION 1996 12 *
METADATA_DATE 1997 9 15 *
DATA_FILE_SIZE 46878252 *
BYTE_COUNT 6191 * * * * * * * * * * * * * * * * * * * * * * * * * * * * * * * * * * *
END_USGS_HEADER *
