1.0000000000
0.0000000000
0.0000000000
-1.0000000000
521440.5000000000
4247769.5000000000
