1.0000000000
0.0000000000
0.0000000000
-1.0000000000
526920.5000000000
4240859.5000000000
