1.0000000000
0.0000000000
0.0000000000
-1.0000000000
521450.5000000000
4240839.5000000000
