BEGIN_USGS_DOQ_HEADER *
QUADRANGLE_NAME "COTATI" *
QUADRANT SW *
WEST_LONGITUDE -122 45 0.0 *
EAST_LONGITUDE -122 41 15.0 *
NORTH_LATITUDE 38 18 45.0 *
SOUTH_LATITUDE 38 15 0.0 *
PRODUCTION_DATE 1997 9 15 *
RASTER_ORDER LEFT_RIGHT/TOP_BOTTOM *
BAND_ORGANIZATION "SINGLE FILE" *
BAND_CONTENT BLACK&WHITE *
BITS_PER_PIXEL 8 *
SAMPLES_AND_LINES 6201 7571 *
HORIZONTAL_DATUM NAD83 *
HORIZONTAL_COORDINATE_SYSTEM UTM *
COORDINATE_ZONE 10 *
HORIZONTAL_UNITS METERS *
HORIZONTAL_RESOLUTION 1.0 *
SECONDARY_HORIZONTAL_DATUM NAD27 *
XY_ORIGIN 521450.000 4240840.000 *
SECONDARY_XY_ORIGIN 521546.697 4240643.211 *
NATION US *
STATE CA *
NW_QUAD_CORNER_XY 521855.879 4240518.029 *
NE_QUAD_CORNER_XY 527319.860 4240534.657 *
SE_QUAD_CORNER_XY 527343.293 4233599.795 *
SW_QUAD_CORNER_XY 521874.625 4233583.176 *
SECONDARY_NW_QUAD_XY 521856.430 4240311.617 *
SECONDARY_NE_QUAD_XY 527320.549 4240328.245 *
SECONDARY_SE_QUAD_XY 527343.981 4233393.529 *
SECONDARY_SW_QUAD_XY 521875.176 4233376.909 *
RMSE_XY 1.681 *
IMAGE_SOURCE "Black and White film" *
SOURCE_IMAGE_ID "NAPP 6361-86" *
SOURCE_IMAGE_DATE 1993 7 10 *
SOURCE_DEM_DATE 1970 4 19 *
AGENCY "WESTERN MAPPING CENTER (WMC)" *
PRODUCER "Hammon, Jensen, Wallen & Associates" *
PRODUCTION_SYSTEM "ORTHOVIEW" *
STANDARD_VERSION 1996 12 *
METADATA_DATE 1997 9 15 *
DATA_FILE_SIZE 46953972 *
BYTE_COUNT 6201 * * * * * * * * * * * * * * * * * * * * * * * * * * * * * * * * * * *
END_USGS_HEADER *
