1.0000000000
0.0000000000
0.0000000000
-1.0000000000
515980.5000000000
4247759.5000000000
