1.0000000000
0.0000000000
0.0000000000
-1.0000000000
510520.5000000000
4247749.5000000000
