1.0000000000
0.0000000000
0.0000000000
-1.0000000000
515990.5000000000
4240819.5000000000
