BEGIN_USGS_DOQ_HEADER *
QUADRANGLE_NAME "TWO ROCK" *
QUADRANT SE *
WEST_LONGITUDE -122 48 45.0 *
EAST_LONGITUDE -122 45 0.0 *
NORTH_LATITUDE 38 18 45.0 *
SOUTH_LATITUDE 38 15 0.0 *
PRODUCTION_DATE 1997 9 15 *
RASTER_ORDER LEFT_RIGHT/TOP_BOTTOM *
BAND_ORGANIZATION "SINGLE FILE" *
BAND_CONTENT BLACK&WHITE *
BITS_PER_PIXEL 8 *
SAMPLES_AND_LINES 6191 7561 *
HORIZONTAL_DATUM NAD83 *
HORIZONTAL_COORDINATE_SYSTEM UTM *
COORDINATE_ZONE 10 *
HORIZONTAL_UNITS METERS *
HORIZONTAL_RESOLUTION 1.0 *
SECONDARY_HORIZONTAL_DATUM NAD27 *
XY_ORIGIN 515990.000 4240820.000 *
SECONDARY_XY_ORIGIN 516086.814 4240623.105 *
NATION US *
STATE CA *
NW_QUAD_CORNER_XY 516391.904 4240505.097 *
NE_QUAD_CORNER_XY 521855.879 4240518.029 *
SE_QUAD_CORNER_XY 521874.625 4233583.176 *
SW_QUAD_CORNER_XY 516405.964 4233570.250 *
SECONDARY_NW_QUAD_XY 516392.317 4240298.684 *
SECONDARY_NE_QUAD_XY 521856.430 4240311.617 *
SECONDARY_SE_QUAD_XY 521875.176 4233376.909 *
SECONDARY_SW_QUAD_XY 516406.376 4233363.983 *
RMSE_XY 2.016 *
IMAGE_SOURCE "Black and White film" *
SOURCE_IMAGE_ID "NAPP 6361-214" *
SOURCE_IMAGE_DATE 1993 7 11 *
SOURCE_DEM_DATE 1983 7 1 *
AGENCY "WESTERN MAPPING CENTER (WMC)" *
PRODUCER "Hammon, Jensen, Wallen & Associates" *
PRODUCTION_SYSTEM "ORTHOVIEW" *
STANDARD_VERSION 1996 12 *
METADATA_DATE 1997 9 15 *
DATA_FILE_SIZE 46816342 *
BYTE_COUNT 6191 * * * * * * * * * * * * * * * * * * * * * * * * * * * * * * * * * * *
END_USGS_HEADER *
