1.0000000000
0.0000000000
0.0000000000
-1.0000000000
510530.5000000000
4240809.5000000000
