1.0000000000
0.0000000000
0.0000000000
-1.0000000000
505060.5000000000
4247739.5000000000
