1.0000000000
0.0000000000
0.0000000000
-1.0000000000
499600.5000000000
4247729.5000000000
