BEGIN_USGS_DOQ_HEADER *
QUADRANGLE_NAME "VALLEY FORD" *
QUADRANT NW *
WEST_LONGITUDE -123 0 0.0 *
EAST_LONGITUDE -122 56 15.0 *
NORTH_LATITUDE 38 22 30.0 *
SOUTH_LATITUDE 38 18 45.0 *
PRODUCTION_DATE 1997 9 16 *
RASTER_ORDER LEFT_RIGHT/TOP_BOTTOM *
BAND_ORGANIZATION "SINGLE FILE" *
BAND_CONTENT BLACK&WHITE *
BITS_PER_PIXEL 8 *
SAMPLES_AND_LINES 6171 7561 *
HORIZONTAL_DATUM NAD83 *
HORIZONTAL_COORDINATE_SYSTEM UTM *
COORDINATE_ZONE 10 *
HORIZONTAL_UNITS METERS *
HORIZONTAL_RESOLUTION 1.0 *
SECONDARY_HORIZONTAL_DATUM NAD27 *
XY_ORIGIN 499600.000 4247730.000 *
SECONDARY_XY_ORIGIN 499697.046 4247532.785 *
NATION US *
STATE CA *
NW_QUAD_CORNER_XY 500000.000 4247423.381 *
NE_QUAD_CORNER_XY 505459.273 4247425.229 *
SE_QUAD_CORNER_XY 505463.966 4240490.316 *
SW_QUAD_CORNER_XY 500000.000 4240488.469 *
SECONDARY_NW_QUAD_XY 500000.000 4247216.822 *
SECONDARY_NE_QUAD_XY 505459.411 4247218.671 *
SECONDARY_SE_QUAD_XY 505464.104 4240283.903 *
SECONDARY_SW_QUAD_XY 500000.000 4240282.055 *
RMSE_XY 2.387 *
IMAGE_SOURCE "Black and White film" *
SOURCE_IMAGE_ID "NAPP 6364-123" *
SOURCE_IMAGE_DATE 1993 7 13 *
SOURCE_DEM_DATE 1983 7 1 *
AGENCY "WESTERN MAPPING CENTER (WMC)" *
PRODUCER "Hammon, Jensen, Wallen & Associates" *
PRODUCTION_SYSTEM "ORTHOVIEW" *
STANDARD_VERSION 1996 12 *
METADATA_DATE 1997 9 16 *
DATA_FILE_SIZE 46665102 *
BYTE_COUNT 6171 * * * * * * * * * * * * * * * * * * * * * * * * * * * * * * * * * * *
END_USGS_HEADER *
