1.0000000000
0.0000000000
0.0000000000
-1.0000000000
499602.5000000000
4240790.5000000000
