BEGIN_USGS_DOQ_HEADER *
QUADRANGLE_NAME "VALLEY FORD" 3.45 or 7.5-min. name*
QUADRANT SW quadrant indicator if cell size = 3.75-minutes*
WEST_LONGITUDE -123 0 0.000 signed deg min sec SDDD MM SS.SSS*
EAST_LONGITUDE -122 56 15.000 signed deg min sec SDDD MM SS.SSS*
NORTH_LATITUDE 38 18 45.000 signed deg min sec SDDD MM SS.SSS*
SOUTH_LATITUDE 38 15 0.000 signed deg min sec SDDD MM SS.SSS*
PRODUCTION_DATE 1996 8 1 yyyy mm dd*
RASTER_ORDER LEFT_RIGHT/TOP_BOTTOM video display order*
BAND_ORGANIZATION "SINGLE FILE" single file or BSQ, or BIL or BIP*
BAND_CONTENT BLACK&WHITE black&white or red green blue*
BITS_PER_PIXEL 8 radiometric resolution*
SAMPLES_AND_LINES 6168 7548 number of columns and rows*
HORIZONTAL_DATUM NAD83 primary horizontal datum*
HORIZONTAL_COORDINATE_SYSTEM UTM *
COORDINATE_ZONE 10 coordinate system zone number*
HORIZONTAL_UNITS METERS coordinate system units*
HORIZONTAL_RESOLUTION 1.00 pixel horiz. ground sample distance*
SECONDARY_HORIZONTAL_DATUM NAD27 secondary horizontal datum*
XY_ORIGIN 499602.000 4240791.000 coord. of upper left pixel pri. datum*
SECONDARY_XY_ORIGIN 499699.159 4240593.786 coord upper left pixel sec datum*
NATION US nation code*
STATE CA state fip code*
NW_QUAD_CORNER_XY 500000.000 4240488.469 XY coords. of pri. NW quad corner*
NE_QUAD_CORNER_XY 505463.966 4240490.316 XY coords. of pri. NE quad corner*
SE_QUAD_CORNER_XY 505468.653 4233555.478 XY coords. of pri. SE quad corner*
SW_QUAD_CORNER_XY 500000.000 4233553.631 XY coords. of pri. SW quad corner*
SECONDARY_NW_QUAD_XY 500000.000 4240282.055 XY coords. - sec. NW quad cor.*
SECONDARY_NE_QUAD_XY 505464.104 4240283.903 XY coords. - sec. NE quad cor.*
SECONDARY_SE_QUAD_XY 505468.790 4233349.210 XY coords. - sec. SE quad cor.*
SECONDARY_SW_QUAD_XY 500000.000 4233347.363 XY coords. - sec. SW quad cor.*
RMSE_XY 1.50 doq horiz. accuracy*
IMAGE_SOURCE "BLACK AND WHITE FILM" b&w, cir, natural color, other*
SOURCE_IMAGE_ID "NAPP 6364 125" source image id*
SOURCE_IMAGE_DATE 1993 7 13 source image date as yyyy mm dd*
SOURCE_DEM_DATE 1996 8 1 source dem date yyyy mm dd*
AGENCY "WESTERN MAPPING CENTER (WMC)" oversight agency*
PRODUCER "WMC" producer/contractor*
PRODUCTION_SYSTEM "DV2.6.3 10/9OV2.4 5/95" production system*
STANDARD_VERSION 1996 12 version of DOQ standard*
METADATA_DATE 1997 7 1 date created or changed, yyyy mm dd*
DATA_FILE_SIZE 46562232 data set size in bytes*
BYTE_COUNT 6168 header byte count* * * * * * * * * * * * * * * * * * * * * * * * * * * * * * * * * * *
END_USGS_HEADER *
