1.0000000000
0.0000000000
0.0000000000
-1.0000000000
581353.5000000000
4262067.5000000000
