1.0000000000
0.0000000000
0.0000000000
-1.0000000000
575903.5000000000
4262009.5000000000
