1.0000000000
0.0000000000
0.0000000000
-1.0000000000
581424.5000000000
4255131.5000000000
