1.0000000000
0.0000000000
0.0000000000
-1.0000000000
575969.5000000000
4255074.5000000000
