1.0000000000
0.0000000000
0.0000000000
-1.0000000000
537750.5000000000
4261719.5000000000
