BEGIN_USGS_DOQ_HEADER *
QUADRANGLE_NAME "KENWOOD" *
QUADRANT NE *
WEST_LONGITUDE -122 33 45.0 *
EAST_LONGITUDE -122 30 0.0 *
NORTH_LATITUDE 38 30 0.0 *
SOUTH_LATITUDE 38 26 15.0 *
PRODUCTION_DATE 1997 11 4 *
RASTER_ORDER LEFT_RIGHT/TOP_BOTTOM *
BAND_ORGANIZATION "SINGLE FILE" *
BAND_CONTENT BLACK&WHITE *
BITS_PER_PIXEL 8 *
SAMPLES_AND_LINES 6191 7591 *
HORIZONTAL_DATUM NAD83 *
HORIZONTAL_COORDINATE_SYSTEM UTM *
COORDINATE_ZONE 10 *
HORIZONTAL_UNITS METERS *
HORIZONTAL_RESOLUTION 1.0 *
SECONDARY_HORIZONTAL_DATUM NAD27 *
XY_ORIGIN 537750.000 4261720.000 *
SECONDARY_XY_ORIGIN 537846.269 4261523.663 *
NATION US *
STATE CA *
NW_QUAD_CORNER_XY 538149.154 4261384.097 *
NE_QUAD_CORNER_XY 543599.062 4261411.854 *
SE_QUAD_CORNER_XY 543636.712 4254476.733 *
SW_QUAD_CORNER_XY 538182.097 4254448.991 *
SECONDARY_NW_QUAD_XY 538150.119 4261177.253 *
SECONDARY_NE_QUAD_XY 543600.166 4261205.011 *
SECONDARY_SE_QUAD_XY 543637.815 4254270.034 *
SECONDARY_SW_QUAD_XY 538183.062 4254242.290 *
RMSE_XY 1.889 *
IMAGE_SOURCE "Black and White film" *
SOURCE_IMAGE_ID "NAPP 6361-130" *
SOURCE_IMAGE_DATE 1993 7 10 *
SOURCE_DEM_DATE 1980 1 1 *
AGENCY "WESTERN MAPPING CENTER (WMC)" *
PRODUCER "Hammon, Jensen, Wallen & Associates" *
PRODUCTION_SYSTEM "ORTHOVIEW" *
STANDARD_VERSION 1996 12 *
METADATA_DATE 1997 11 4 *
DATA_FILE_SIZE 47002072 *
BYTE_COUNT 6191 * * * * * * * * * * * * * * * * * * * * * * * * * * * * * * * * * * *
END_USGS_HEADER *
