BEGIN_USGS_DOQ_HEADER *
QUADRANGLE_NAME "KENWOOD" *
QUADRANT SE *
WEST_LONGITUDE -122 33 45.0 *
EAST_LONGITUDE -122 30 0.0 *
NORTH_LATITUDE 38 26 15.0 *
SOUTH_LATITUDE 38 22 30.0 *
PRODUCTION_DATE 1997 9 15 *
RASTER_ORDER LEFT_RIGHT/TOP_BOTTOM *
BAND_ORGANIZATION "SINGLE FILE" *
BAND_CONTENT BLACK&WHITE *
BITS_PER_PIXEL 8 *
SAMPLES_AND_LINES 6201 7581 *
HORIZONTAL_DATUM NAD83 *
HORIZONTAL_COORDINATE_SYSTEM UTM *
COORDINATE_ZONE 10 *
HORIZONTAL_UNITS METERS *
HORIZONTAL_RESOLUTION 1.0 *
SECONDARY_HORIZONTAL_DATUM NAD27 *
XY_ORIGIN 537780.000 4254780.000 *
SECONDARY_XY_ORIGIN 537876.380 4254583.620 *
NATION US *
STATE CA *
NW_QUAD_CORNER_XY 538182.097 4254448.991 *
NE_QUAD_CORNER_XY 543636.712 4254476.733 *
SE_QUAD_CORNER_XY 543674.310 4247541.686 *
SW_QUAD_CORNER_XY 538214.995 4247513.958 *
SECONDARY_NW_QUAD_XY 538183.062 4254242.290 *
SECONDARY_NE_QUAD_XY 543637.815 4254270.034 *
SECONDARY_SE_QUAD_XY 543675.412 4247335.131 *
SECONDARY_SW_QUAD_XY 538215.959 4247307.402 *
RMSE_XY 1.534 *
IMAGE_SOURCE "Black and White film" *
SOURCE_IMAGE_ID "NAPP 6361-132" *
SOURCE_IMAGE_DATE 1993 7 10 *
SOURCE_DEM_DATE 1980 0 1 *
AGENCY "WESTERN MAPPING CENTER (WMC)" *
PRODUCER "Hammon, Jensen, Wallen & Associates" *
PRODUCTION_SYSTEM "ORTHOVIEW" *
STANDARD_VERSION 1996 12 *
METADATA_DATE 1997 9 15 *
DATA_FILE_SIZE 47015982 *
BYTE_COUNT 6201 * * * * * * * * * * * * * * * * * * * * * * * * * * * * * * * * * * *
END_USGS_HEADER *
