BEGIN_USGS_DOQ_HEADER *
QUADRANGLE_NAME "KENWOOD" *
QUADRANT SW *
WEST_LONGITUDE -122 37 30.0 *
EAST_LONGITUDE -122 33 45.0 *
NORTH_LATITUDE 38 26 15.0 *
SOUTH_LATITUDE 38 22 30.0 *
PRODUCTION_DATE 1997 9 16 *
RASTER_ORDER LEFT_RIGHT/TOP_BOTTOM *
BAND_ORGANIZATION "SINGLE FILE" *
BAND_CONTENT BLACK&WHITE *
BITS_PER_PIXEL 8 *
SAMPLES_AND_LINES 6191 7581 *
HORIZONTAL_DATUM NAD83 *
HORIZONTAL_COORDINATE_SYSTEM UTM *
COORDINATE_ZONE 10 *
HORIZONTAL_UNITS METERS *
HORIZONTAL_RESOLUTION 1.0 *
SECONDARY_HORIZONTAL_DATUM NAD27 *
XY_ORIGIN 532330.000 4254750.000 *
SECONDARY_XY_ORIGIN 532426.404 4254553.514 *
NATION US *
STATE CA *
NW_QUAD_CORNER_XY 532727.493 4254424.947 *
NE_QUAD_CORNER_XY 538182.097 4254448.991 *
SE_QUAD_CORNER_XY 538214.995 4247513.958 *
SW_QUAD_CORNER_XY 532755.690 4247489.927 *
SECONDARY_NW_QUAD_XY 532728.320 4254218.246 *
SECONDARY_NE_QUAD_XY 538183.062 4254242.290 *
SECONDARY_SE_QUAD_XY 538215.959 4247307.402 *
SECONDARY_SW_QUAD_XY 532756.517 4247283.370 *
RMSE_XY 0.935 *
IMAGE_SOURCE "Black and White film" *
SOURCE_IMAGE_ID "NAPP 6361-105" *
SOURCE_IMAGE_DATE 1993 7 10 *
SOURCE_DEM_DATE 1980 0 1 *
AGENCY "WESTERN MAPPING CENTER (WMC)" *
PRODUCER "Hammon, Jensen, Wallen & Associates" *
PRODUCTION_SYSTEM "ORTHOVIEW" *
STANDARD_VERSION 1996 12 *
METADATA_DATE 1997 9 16 *
DATA_FILE_SIZE 46940162 *
BYTE_COUNT 6191 * * * * * * * * * * * * * * * * * * * * * * * * * * * * * * * * * * *
END_USGS_HEADER *
