1.0000000000
0.0000000000
0.0000000000
-1.0000000000
526850.5000000000
4261669.5000000000
