BEGIN_USGS_DOQ_HEADER *
QUADRANGLE_NAME "SANTA ROSA" *
QUADRANT NW *
WEST_LONGITUDE -122 45 0.0 *
EAST_LONGITUDE -122 41 15.0 *
NORTH_LATITUDE 38 30 0.0 *
SOUTH_LATITUDE 38 26 15.0 *
PRODUCTION_DATE 1997 9 16 *
RASTER_ORDER LEFT_RIGHT/TOP_BOTTOM *
BAND_ORGANIZATION "SINGLE FILE" *
BAND_CONTENT BLACK&WHITE *
BITS_PER_PIXEL 8 *
SAMPLES_AND_LINES 6181 7571 *
HORIZONTAL_DATUM NAD83 *
HORIZONTAL_COORDINATE_SYSTEM UTM *
COORDINATE_ZONE 10 *
HORIZONTAL_UNITS METERS *
HORIZONTAL_RESOLUTION 1.0 *
SECONDARY_HORIZONTAL_DATUM NAD27 *
XY_ORIGIN 521400.000 4261640.000 *
SECONDARY_XY_ORIGIN 521496.344 4261443.338 *
NATION US *
STATE CA *
NW_QUAD_CORNER_XY 521799.484 4261323.033 *
NE_QUAD_CORNER_XY 527249.366 4261339.687 *
SE_QUAD_CORNER_XY 527272.897 4254404.603 *
SW_QUAD_CORNER_XY 521818.308 4254387.958 *
SECONDARY_NW_QUAD_XY 521800.036 4261116.188 *
SECONDARY_NE_QUAD_XY 527250.056 4261132.842 *
SECONDARY_SE_QUAD_XY 527273.586 4254197.902 *
SECONDARY_SW_QUAD_XY 521818.860 4254181.256 *
RMSE_XY 1.057 *
IMAGE_SOURCE "Black and White film" *
SOURCE_IMAGE_ID "NAPP 6361-80" *
SOURCE_IMAGE_DATE 1993 7 10 *
SOURCE_DEM_DATE 1980 1 1 *
AGENCY "WESTERN MAPPING CENTER (WMC)" *
PRODUCER "Hammon, Jensen, Wallen & Associates" *
PRODUCTION_SYSTEM "ORTHOVIEW" *
STANDARD_VERSION 1996 12 *
METADATA_DATE 1997 9 16 *
DATA_FILE_SIZE 46802532 *
BYTE_COUNT 6181 * * * * * * * * * * * * * * * * * * * * * * * * * * * * * * * * * * *
END_USGS_HEADER *
